BEGIN:VCALENDAR
VERSION:2.0
PRODID:-//Center of Grace - ECPv6.15.20//NONSGML v1.0//EN
CALSCALE:GREGORIAN
METHOD:PUBLISH
X-WR-CALNAME:Center of Grace
X-ORIGINAL-URL:https://centerofgraceny.com
X-WR-CALDESC:Events for Center of Grace
REFRESH-INTERVAL;VALUE=DURATION:PT1H
X-Robots-Tag:noindex
X-PUBLISHED-TTL:PT1H
BEGIN:VTIMEZONE
TZID:America/New_York
BEGIN:DAYLIGHT
TZOFFSETFROM:-0500
TZOFFSETTO:-0400
TZNAME:EDT
DTSTART:20240310T070000
END:DAYLIGHT
BEGIN:STANDARD
TZOFFSETFROM:-0400
TZOFFSETTO:-0500
TZNAME:EST
DTSTART:20241103T060000
END:STANDARD
BEGIN:DAYLIGHT
TZOFFSETFROM:-0500
TZOFFSETTO:-0400
TZNAME:EDT
DTSTART:20250309T070000
END:DAYLIGHT
BEGIN:STANDARD
TZOFFSETFROM:-0400
TZOFFSETTO:-0500
TZNAME:EST
DTSTART:20251102T060000
END:STANDARD
BEGIN:DAYLIGHT
TZOFFSETFROM:-0500
TZOFFSETTO:-0400
TZNAME:EDT
DTSTART:20260308T070000
END:DAYLIGHT
BEGIN:STANDARD
TZOFFSETFROM:-0400
TZOFFSETTO:-0500
TZNAME:EST
DTSTART:20261101T060000
END:STANDARD
END:VTIMEZONE
BEGIN:VEVENT
DTSTART;TZID=America/New_York:20250228T180000
DTEND;TZID=America/New_York:20250228T193000
DTSTAMP:20260425T224433
CREATED:20241017T130312Z
LAST-MODIFIED:20250108T183241Z
UID:10001395-1740765600-1740771000@centerofgraceny.com
SUMMARY:Arc of Sound
DESCRIPTION: 
URL:https://centerofgraceny.com/event/arc-of-sound/
LOCATION:Center of Grace\, 8219 Market Place\, Building #10\, Manlius\, NY\, 13104
END:VEVENT
END:VCALENDAR