BEGIN:VCALENDAR
VERSION:2.0
PRODID:-//Center of Grace - ECPv6.15.20//NONSGML v1.0//EN
CALSCALE:GREGORIAN
METHOD:PUBLISH
X-ORIGINAL-URL:https://centerofgraceny.com
X-WR-CALDESC:Events for Center of Grace
REFRESH-INTERVAL;VALUE=DURATION:PT1H
X-Robots-Tag:noindex
X-PUBLISHED-TTL:PT1H
BEGIN:VTIMEZONE
TZID:America/New_York
BEGIN:DAYLIGHT
TZOFFSETFROM:-0500
TZOFFSETTO:-0400
TZNAME:EDT
DTSTART:20250309T070000
END:DAYLIGHT
BEGIN:STANDARD
TZOFFSETFROM:-0400
TZOFFSETTO:-0500
TZNAME:EST
DTSTART:20251102T060000
END:STANDARD
BEGIN:DAYLIGHT
TZOFFSETFROM:-0500
TZOFFSETTO:-0400
TZNAME:EDT
DTSTART:20260308T070000
END:DAYLIGHT
BEGIN:STANDARD
TZOFFSETFROM:-0400
TZOFFSETTO:-0500
TZNAME:EST
DTSTART:20261101T060000
END:STANDARD
BEGIN:DAYLIGHT
TZOFFSETFROM:-0500
TZOFFSETTO:-0400
TZNAME:EDT
DTSTART:20270314T070000
END:DAYLIGHT
BEGIN:STANDARD
TZOFFSETFROM:-0400
TZOFFSETTO:-0500
TZNAME:EST
DTSTART:20271107T060000
END:STANDARD
END:VTIMEZONE
BEGIN:VEVENT
DTSTART;TZID=America/New_York:20260101T090000
DTEND;TZID=America/New_York:20260101T100000
DTSTAMP:20260423T030844
CREATED:20240828T125611Z
LAST-MODIFIED:20251021T174452Z
UID:10000659-1767258000-1767261600@centerofgraceny.com
SUMMARY:Yoga with Chris DeAmicis
DESCRIPTION:
URL:https://centerofgraceny.com/event/yoga-with-chris-deamicis-4-2/2026-01-01/
LOCATION:Center of Grace\, 8219 Market Place\, Building #10\, Manlius\, NY\, 13104
CATEGORIES:Yoga
END:VEVENT
BEGIN:VEVENT
DTSTART;TZID=America/New_York:20260105T173000
DTEND;TZID=America/New_York:20260105T183000
DTSTAMP:20260423T030844
CREATED:20251021T175919Z
LAST-MODIFIED:20251021T180052Z
UID:10002256-1767634200-1767637800@centerofgraceny.com
SUMMARY:Yoga with Chris DeAmicis
DESCRIPTION:
URL:https://centerofgraceny.com/event/yoga-with-chris-deamicis-3-2/2026-01-05/
LOCATION:Center of Grace\, 8219 Market Place\, Building #10\, Manlius\, NY\, 13104
CATEGORIES:Yoga
END:VEVENT
BEGIN:VEVENT
DTSTART;TZID=America/New_York:20260108T090000
DTEND;TZID=America/New_York:20260108T100000
DTSTAMP:20260423T030844
CREATED:20240828T125611Z
LAST-MODIFIED:20251021T174452Z
UID:10000660-1767862800-1767866400@centerofgraceny.com
SUMMARY:Yoga with Chris DeAmicis
DESCRIPTION:
URL:https://centerofgraceny.com/event/yoga-with-chris-deamicis-4-2/2026-01-08/
LOCATION:Center of Grace\, 8219 Market Place\, Building #10\, Manlius\, NY\, 13104
CATEGORIES:Yoga
END:VEVENT
BEGIN:VEVENT
DTSTART;TZID=America/New_York:20260112T173000
DTEND;TZID=America/New_York:20260112T183000
DTSTAMP:20260423T030844
CREATED:20251021T175919Z
LAST-MODIFIED:20251021T180052Z
UID:10002257-1768239000-1768242600@centerofgraceny.com
SUMMARY:Yoga with Chris DeAmicis
DESCRIPTION:
URL:https://centerofgraceny.com/event/yoga-with-chris-deamicis-3-2/2026-01-12/
LOCATION:Center of Grace\, 8219 Market Place\, Building #10\, Manlius\, NY\, 13104
CATEGORIES:Yoga
END:VEVENT
BEGIN:VEVENT
DTSTART;TZID=America/New_York:20260115T090000
DTEND;TZID=America/New_York:20260115T100000
DTSTAMP:20260423T030844
CREATED:20240828T125611Z
LAST-MODIFIED:20251021T174452Z
UID:10000661-1768467600-1768471200@centerofgraceny.com
SUMMARY:Yoga with Chris DeAmicis
DESCRIPTION:
URL:https://centerofgraceny.com/event/yoga-with-chris-deamicis-4-2/2026-01-15/
LOCATION:Center of Grace\, 8219 Market Place\, Building #10\, Manlius\, NY\, 13104
CATEGORIES:Yoga
END:VEVENT
BEGIN:VEVENT
DTSTART;TZID=America/New_York:20260119T173000
DTEND;TZID=America/New_York:20260119T183000
DTSTAMP:20260423T030844
CREATED:20251021T175919Z
LAST-MODIFIED:20251021T180052Z
UID:10002258-1768843800-1768847400@centerofgraceny.com
SUMMARY:Yoga with Chris DeAmicis
DESCRIPTION:
URL:https://centerofgraceny.com/event/yoga-with-chris-deamicis-3-2/2026-01-19/
LOCATION:Center of Grace\, 8219 Market Place\, Building #10\, Manlius\, NY\, 13104
CATEGORIES:Yoga
END:VEVENT
BEGIN:VEVENT
DTSTART;TZID=America/New_York:20260122T090000
DTEND;TZID=America/New_York:20260122T100000
DTSTAMP:20260423T030844
CREATED:20240828T125611Z
LAST-MODIFIED:20251021T174452Z
UID:10000662-1769072400-1769076000@centerofgraceny.com
SUMMARY:Yoga with Chris DeAmicis
DESCRIPTION:
URL:https://centerofgraceny.com/event/yoga-with-chris-deamicis-4-2/2026-01-22/
LOCATION:Center of Grace\, 8219 Market Place\, Building #10\, Manlius\, NY\, 13104
CATEGORIES:Yoga
END:VEVENT
BEGIN:VEVENT
DTSTART;TZID=America/New_York:20260126T173000
DTEND;TZID=America/New_York:20260126T183000
DTSTAMP:20260423T030844
CREATED:20251021T175919Z
LAST-MODIFIED:20251021T180052Z
UID:10002259-1769448600-1769452200@centerofgraceny.com
SUMMARY:Yoga with Chris DeAmicis
DESCRIPTION:
URL:https://centerofgraceny.com/event/yoga-with-chris-deamicis-3-2/2026-01-26/
LOCATION:Center of Grace\, 8219 Market Place\, Building #10\, Manlius\, NY\, 13104
CATEGORIES:Yoga
END:VEVENT
BEGIN:VEVENT
DTSTART;TZID=America/New_York:20260129T090000
DTEND;TZID=America/New_York:20260129T100000
DTSTAMP:20260423T030844
CREATED:20240828T125611Z
LAST-MODIFIED:20251021T174452Z
UID:10000663-1769677200-1769680800@centerofgraceny.com
SUMMARY:Yoga with Chris DeAmicis
DESCRIPTION:
URL:https://centerofgraceny.com/event/yoga-with-chris-deamicis-4-2/2026-01-29/
LOCATION:Center of Grace\, 8219 Market Place\, Building #10\, Manlius\, NY\, 13104
CATEGORIES:Yoga
END:VEVENT
END:VCALENDAR