BEGIN:VCALENDAR
VERSION:2.0
PRODID:-//Center of Grace - ECPv6.15.20//NONSGML v1.0//EN
CALSCALE:GREGORIAN
METHOD:PUBLISH
X-ORIGINAL-URL:https://centerofgraceny.com
X-WR-CALDESC:Events for Center of Grace
REFRESH-INTERVAL;VALUE=DURATION:PT1H
X-Robots-Tag:noindex
X-PUBLISHED-TTL:PT1H
BEGIN:VTIMEZONE
TZID:America/New_York
BEGIN:DAYLIGHT
TZOFFSETFROM:-0500
TZOFFSETTO:-0400
TZNAME:EDT
DTSTART:20250309T070000
END:DAYLIGHT
BEGIN:STANDARD
TZOFFSETFROM:-0400
TZOFFSETTO:-0500
TZNAME:EST
DTSTART:20251102T060000
END:STANDARD
BEGIN:DAYLIGHT
TZOFFSETFROM:-0500
TZOFFSETTO:-0400
TZNAME:EDT
DTSTART:20260308T070000
END:DAYLIGHT
BEGIN:STANDARD
TZOFFSETFROM:-0400
TZOFFSETTO:-0500
TZNAME:EST
DTSTART:20261101T060000
END:STANDARD
BEGIN:DAYLIGHT
TZOFFSETFROM:-0500
TZOFFSETTO:-0400
TZNAME:EDT
DTSTART:20270314T070000
END:DAYLIGHT
BEGIN:STANDARD
TZOFFSETFROM:-0400
TZOFFSETTO:-0500
TZNAME:EST
DTSTART:20271107T060000
END:STANDARD
END:VTIMEZONE
BEGIN:VEVENT
DTSTART;TZID=America/New_York:20260504T173000
DTEND;TZID=America/New_York:20260504T183000
DTSTAMP:20260422T194956
CREATED:20251021T175919Z
LAST-MODIFIED:20251021T180052Z
UID:10002273-1777915800-1777919400@centerofgraceny.com
SUMMARY:Yoga with Chris DeAmicis
DESCRIPTION:
URL:https://centerofgraceny.com/event/yoga-with-chris-deamicis-3-2/2026-05-04/
LOCATION:Center of Grace\, 8219 Market Place\, Building #10\, Manlius\, NY\, 13104
CATEGORIES:Yoga
END:VEVENT
BEGIN:VEVENT
DTSTART;TZID=America/New_York:20260507T090000
DTEND;TZID=America/New_York:20260507T100000
DTSTAMP:20260422T194956
CREATED:20240828T125611Z
LAST-MODIFIED:20251021T174452Z
UID:10000677-1778144400-1778148000@centerofgraceny.com
SUMMARY:Yoga with Chris DeAmicis
DESCRIPTION:
URL:https://centerofgraceny.com/event/yoga-with-chris-deamicis-4-2/2026-05-07/
LOCATION:Center of Grace\, 8219 Market Place\, Building #10\, Manlius\, NY\, 13104
CATEGORIES:Yoga
END:VEVENT
BEGIN:VEVENT
DTSTART;TZID=America/New_York:20260511T173000
DTEND;TZID=America/New_York:20260511T183000
DTSTAMP:20260422T194956
CREATED:20251021T175919Z
LAST-MODIFIED:20251021T180052Z
UID:10002274-1778520600-1778524200@centerofgraceny.com
SUMMARY:Yoga with Chris DeAmicis
DESCRIPTION:
URL:https://centerofgraceny.com/event/yoga-with-chris-deamicis-3-2/2026-05-11/
LOCATION:Center of Grace\, 8219 Market Place\, Building #10\, Manlius\, NY\, 13104
CATEGORIES:Yoga
END:VEVENT
BEGIN:VEVENT
DTSTART;TZID=America/New_York:20260514T090000
DTEND;TZID=America/New_York:20260514T100000
DTSTAMP:20260422T194956
CREATED:20240828T125611Z
LAST-MODIFIED:20251021T174452Z
UID:10000678-1778749200-1778752800@centerofgraceny.com
SUMMARY:Yoga with Chris DeAmicis
DESCRIPTION:
URL:https://centerofgraceny.com/event/yoga-with-chris-deamicis-4-2/2026-05-14/
LOCATION:Center of Grace\, 8219 Market Place\, Building #10\, Manlius\, NY\, 13104
CATEGORIES:Yoga
END:VEVENT
BEGIN:VEVENT
DTSTART;TZID=America/New_York:20260518T173000
DTEND;TZID=America/New_York:20260518T183000
DTSTAMP:20260422T194956
CREATED:20251021T175919Z
LAST-MODIFIED:20251021T180052Z
UID:10002275-1779125400-1779129000@centerofgraceny.com
SUMMARY:Yoga with Chris DeAmicis
DESCRIPTION:
URL:https://centerofgraceny.com/event/yoga-with-chris-deamicis-3-2/2026-05-18/
LOCATION:Center of Grace\, 8219 Market Place\, Building #10\, Manlius\, NY\, 13104
CATEGORIES:Yoga
END:VEVENT
BEGIN:VEVENT
DTSTART;TZID=America/New_York:20260521T090000
DTEND;TZID=America/New_York:20260521T100000
DTSTAMP:20260422T194956
CREATED:20240828T125611Z
LAST-MODIFIED:20251021T174452Z
UID:10000679-1779354000-1779357600@centerofgraceny.com
SUMMARY:Yoga with Chris DeAmicis
DESCRIPTION:
URL:https://centerofgraceny.com/event/yoga-with-chris-deamicis-4-2/2026-05-21/
LOCATION:Center of Grace\, 8219 Market Place\, Building #10\, Manlius\, NY\, 13104
CATEGORIES:Yoga
END:VEVENT
BEGIN:VEVENT
DTSTART;TZID=America/New_York:20260525T173000
DTEND;TZID=America/New_York:20260525T183000
DTSTAMP:20260422T194956
CREATED:20251021T175919Z
LAST-MODIFIED:20251021T180052Z
UID:10002276-1779730200-1779733800@centerofgraceny.com
SUMMARY:Yoga with Chris DeAmicis
DESCRIPTION:
URL:https://centerofgraceny.com/event/yoga-with-chris-deamicis-3-2/2026-05-25/
LOCATION:Center of Grace\, 8219 Market Place\, Building #10\, Manlius\, NY\, 13104
CATEGORIES:Yoga
END:VEVENT
BEGIN:VEVENT
DTSTART;TZID=America/New_York:20260528T090000
DTEND;TZID=America/New_York:20260528T100000
DTSTAMP:20260422T194956
CREATED:20240828T125611Z
LAST-MODIFIED:20251021T174452Z
UID:10000680-1779958800-1779962400@centerofgraceny.com
SUMMARY:Yoga with Chris DeAmicis
DESCRIPTION:
URL:https://centerofgraceny.com/event/yoga-with-chris-deamicis-4-2/2026-05-28/
LOCATION:Center of Grace\, 8219 Market Place\, Building #10\, Manlius\, NY\, 13104
CATEGORIES:Yoga
END:VEVENT
END:VCALENDAR