BEGIN:VCALENDAR
VERSION:2.0
PRODID:-//Center of Grace - ECPv6.15.20//NONSGML v1.0//EN
CALSCALE:GREGORIAN
METHOD:PUBLISH
X-ORIGINAL-URL:https://centerofgraceny.com
X-WR-CALDESC:Events for Center of Grace
REFRESH-INTERVAL;VALUE=DURATION:PT1H
X-Robots-Tag:noindex
X-PUBLISHED-TTL:PT1H
BEGIN:VTIMEZONE
TZID:America/New_York
BEGIN:DAYLIGHT
TZOFFSETFROM:-0500
TZOFFSETTO:-0400
TZNAME:EDT
DTSTART:20240310T070000
END:DAYLIGHT
BEGIN:STANDARD
TZOFFSETFROM:-0400
TZOFFSETTO:-0500
TZNAME:EST
DTSTART:20241103T060000
END:STANDARD
BEGIN:DAYLIGHT
TZOFFSETFROM:-0500
TZOFFSETTO:-0400
TZNAME:EDT
DTSTART:20250309T070000
END:DAYLIGHT
BEGIN:STANDARD
TZOFFSETFROM:-0400
TZOFFSETTO:-0500
TZNAME:EST
DTSTART:20251102T060000
END:STANDARD
BEGIN:DAYLIGHT
TZOFFSETFROM:-0500
TZOFFSETTO:-0400
TZNAME:EDT
DTSTART:20260308T070000
END:DAYLIGHT
BEGIN:STANDARD
TZOFFSETFROM:-0400
TZOFFSETTO:-0500
TZNAME:EST
DTSTART:20261101T060000
END:STANDARD
END:VTIMEZONE
BEGIN:VEVENT
DTSTART;TZID=America/New_York:20250807T090000
DTEND;TZID=America/New_York:20250807T100000
DTSTAMP:20260423T101455
CREATED:20240828T125611Z
LAST-MODIFIED:20251021T174452Z
UID:10000638-1754557200-1754560800@centerofgraceny.com
SUMMARY:Yoga with Chris DeAmicis
DESCRIPTION:
URL:https://centerofgraceny.com/event/yoga-with-chris-deamicis-4-2/2025-08-07/
LOCATION:Center of Grace\, 8219 Market Place\, Building #10\, Manlius\, NY\, 13104
CATEGORIES:Yoga
END:VEVENT
BEGIN:VEVENT
DTSTART;TZID=America/New_York:20250814T090000
DTEND;TZID=America/New_York:20250814T100000
DTSTAMP:20260423T101455
CREATED:20240828T125611Z
LAST-MODIFIED:20251021T174452Z
UID:10000639-1755162000-1755165600@centerofgraceny.com
SUMMARY:Yoga with Chris DeAmicis
DESCRIPTION:
URL:https://centerofgraceny.com/event/yoga-with-chris-deamicis-4-2/2025-08-14/
LOCATION:Center of Grace\, 8219 Market Place\, Building #10\, Manlius\, NY\, 13104
CATEGORIES:Yoga
END:VEVENT
BEGIN:VEVENT
DTSTART;TZID=America/New_York:20250821T090000
DTEND;TZID=America/New_York:20250821T100000
DTSTAMP:20260423T101455
CREATED:20240828T125611Z
LAST-MODIFIED:20251021T174452Z
UID:10000640-1755766800-1755770400@centerofgraceny.com
SUMMARY:Yoga with Chris DeAmicis
DESCRIPTION:
URL:https://centerofgraceny.com/event/yoga-with-chris-deamicis-4-2/2025-08-21/
LOCATION:Center of Grace\, 8219 Market Place\, Building #10\, Manlius\, NY\, 13104
CATEGORIES:Yoga
END:VEVENT
BEGIN:VEVENT
DTSTART;TZID=America/New_York:20250828T090000
DTEND;TZID=America/New_York:20250828T100000
DTSTAMP:20260423T101455
CREATED:20240828T125611Z
LAST-MODIFIED:20251021T174452Z
UID:10000641-1756371600-1756375200@centerofgraceny.com
SUMMARY:Yoga with Chris DeAmicis
DESCRIPTION:
URL:https://centerofgraceny.com/event/yoga-with-chris-deamicis-4-2/2025-08-28/
LOCATION:Center of Grace\, 8219 Market Place\, Building #10\, Manlius\, NY\, 13104
CATEGORIES:Yoga
END:VEVENT
BEGIN:VEVENT
DTSTART;TZID=America/New_York:20250828T190000
DTEND;TZID=America/New_York:20250828T200000
DTSTAMP:20260423T101455
CREATED:20250623T145407Z
LAST-MODIFIED:20251021T174211Z
UID:10002075-1756407600-1756411200@centerofgraceny.com
SUMMARY:SOUND JOURNEY WITH DEB & TANYA
DESCRIPTION:Sound Journey flyer
URL:https://centerofgraceny.com/event/sound-journey-with-deb-tanya/2025-08-28/
LOCATION:Center of Grace\, 8219 Market Place\, Building #10\, Manlius\, NY\, 13104
END:VEVENT
END:VCALENDAR