BEGIN:VCALENDAR
VERSION:2.0
PRODID:-//Center of Grace - ECPv6.15.20//NONSGML v1.0//EN
CALSCALE:GREGORIAN
METHOD:PUBLISH
X-ORIGINAL-URL:https://centerofgraceny.com
X-WR-CALDESC:Events for Center of Grace
REFRESH-INTERVAL;VALUE=DURATION:PT1H
X-Robots-Tag:noindex
X-PUBLISHED-TTL:PT1H
BEGIN:VTIMEZONE
TZID:America/New_York
BEGIN:DAYLIGHT
TZOFFSETFROM:-0500
TZOFFSETTO:-0400
TZNAME:EDT
DTSTART:20250309T070000
END:DAYLIGHT
BEGIN:STANDARD
TZOFFSETFROM:-0400
TZOFFSETTO:-0500
TZNAME:EST
DTSTART:20251102T060000
END:STANDARD
BEGIN:DAYLIGHT
TZOFFSETFROM:-0500
TZOFFSETTO:-0400
TZNAME:EDT
DTSTART:20260308T070000
END:DAYLIGHT
BEGIN:STANDARD
TZOFFSETFROM:-0400
TZOFFSETTO:-0500
TZNAME:EST
DTSTART:20261101T060000
END:STANDARD
BEGIN:DAYLIGHT
TZOFFSETFROM:-0500
TZOFFSETTO:-0400
TZNAME:EDT
DTSTART:20270314T070000
END:DAYLIGHT
BEGIN:STANDARD
TZOFFSETFROM:-0400
TZOFFSETTO:-0500
TZNAME:EST
DTSTART:20271107T060000
END:STANDARD
END:VTIMEZONE
BEGIN:VEVENT
DTSTART;TZID=America/New_York:20260202T173000
DTEND;TZID=America/New_York:20260202T183000
DTSTAMP:20260422T224149
CREATED:20251021T175919Z
LAST-MODIFIED:20251021T180052Z
UID:10002260-1770053400-1770057000@centerofgraceny.com
SUMMARY:Yoga with Chris DeAmicis
DESCRIPTION:
URL:https://centerofgraceny.com/event/yoga-with-chris-deamicis-3-2/2026-02-02/
LOCATION:Center of Grace\, 8219 Market Place\, Building #10\, Manlius\, NY\, 13104
CATEGORIES:Yoga
END:VEVENT
BEGIN:VEVENT
DTSTART;TZID=America/New_York:20260205T090000
DTEND;TZID=America/New_York:20260205T100000
DTSTAMP:20260422T224149
CREATED:20240828T125611Z
LAST-MODIFIED:20251021T174452Z
UID:10000664-1770282000-1770285600@centerofgraceny.com
SUMMARY:Yoga with Chris DeAmicis
DESCRIPTION:
URL:https://centerofgraceny.com/event/yoga-with-chris-deamicis-4-2/2026-02-05/
LOCATION:Center of Grace\, 8219 Market Place\, Building #10\, Manlius\, NY\, 13104
CATEGORIES:Yoga
END:VEVENT
BEGIN:VEVENT
DTSTART;TZID=America/New_York:20260209T173000
DTEND;TZID=America/New_York:20260209T183000
DTSTAMP:20260422T224149
CREATED:20251021T175919Z
LAST-MODIFIED:20251021T180052Z
UID:10002261-1770658200-1770661800@centerofgraceny.com
SUMMARY:Yoga with Chris DeAmicis
DESCRIPTION:
URL:https://centerofgraceny.com/event/yoga-with-chris-deamicis-3-2/2026-02-09/
LOCATION:Center of Grace\, 8219 Market Place\, Building #10\, Manlius\, NY\, 13104
CATEGORIES:Yoga
END:VEVENT
BEGIN:VEVENT
DTSTART;TZID=America/New_York:20260212T090000
DTEND;TZID=America/New_York:20260212T100000
DTSTAMP:20260422T224149
CREATED:20240828T125611Z
LAST-MODIFIED:20251021T174452Z
UID:10000665-1770886800-1770890400@centerofgraceny.com
SUMMARY:Yoga with Chris DeAmicis
DESCRIPTION:
URL:https://centerofgraceny.com/event/yoga-with-chris-deamicis-4-2/2026-02-12/
LOCATION:Center of Grace\, 8219 Market Place\, Building #10\, Manlius\, NY\, 13104
CATEGORIES:Yoga
END:VEVENT
BEGIN:VEVENT
DTSTART;TZID=America/New_York:20260216T173000
DTEND;TZID=America/New_York:20260216T183000
DTSTAMP:20260422T224149
CREATED:20251021T175919Z
LAST-MODIFIED:20251021T180052Z
UID:10002262-1771263000-1771266600@centerofgraceny.com
SUMMARY:Yoga with Chris DeAmicis
DESCRIPTION:
URL:https://centerofgraceny.com/event/yoga-with-chris-deamicis-3-2/2026-02-16/
LOCATION:Center of Grace\, 8219 Market Place\, Building #10\, Manlius\, NY\, 13104
CATEGORIES:Yoga
END:VEVENT
BEGIN:VEVENT
DTSTART;TZID=America/New_York:20260219T090000
DTEND;TZID=America/New_York:20260219T100000
DTSTAMP:20260422T224149
CREATED:20240828T125611Z
LAST-MODIFIED:20251021T174452Z
UID:10000666-1771491600-1771495200@centerofgraceny.com
SUMMARY:Yoga with Chris DeAmicis
DESCRIPTION:
URL:https://centerofgraceny.com/event/yoga-with-chris-deamicis-4-2/2026-02-19/
LOCATION:Center of Grace\, 8219 Market Place\, Building #10\, Manlius\, NY\, 13104
CATEGORIES:Yoga
END:VEVENT
BEGIN:VEVENT
DTSTART;TZID=America/New_York:20260223T173000
DTEND;TZID=America/New_York:20260223T183000
DTSTAMP:20260422T224149
CREATED:20251021T175919Z
LAST-MODIFIED:20251021T180052Z
UID:10002263-1771867800-1771871400@centerofgraceny.com
SUMMARY:Yoga with Chris DeAmicis
DESCRIPTION:
URL:https://centerofgraceny.com/event/yoga-with-chris-deamicis-3-2/2026-02-23/
LOCATION:Center of Grace\, 8219 Market Place\, Building #10\, Manlius\, NY\, 13104
CATEGORIES:Yoga
END:VEVENT
BEGIN:VEVENT
DTSTART;TZID=America/New_York:20260226T090000
DTEND;TZID=America/New_York:20260226T100000
DTSTAMP:20260422T224149
CREATED:20240828T125611Z
LAST-MODIFIED:20251021T174452Z
UID:10000667-1772096400-1772100000@centerofgraceny.com
SUMMARY:Yoga with Chris DeAmicis
DESCRIPTION:
URL:https://centerofgraceny.com/event/yoga-with-chris-deamicis-4-2/2026-02-26/
LOCATION:Center of Grace\, 8219 Market Place\, Building #10\, Manlius\, NY\, 13104
CATEGORIES:Yoga
END:VEVENT
BEGIN:VEVENT
DTSTART;TZID=America/New_York:20260226T190000
DTEND;TZID=America/New_York:20260226T200000
DTSTAMP:20260422T224149
CREATED:20250623T145407Z
LAST-MODIFIED:20251021T174211Z
UID:10002081-1772132400-1772136000@centerofgraceny.com
SUMMARY:SOUND JOURNEY WITH DEB & TANYA
DESCRIPTION:Sound Journey flyer
URL:https://centerofgraceny.com/event/sound-journey-with-deb-tanya/2026-02-26/
LOCATION:Center of Grace\, 8219 Market Place\, Building #10\, Manlius\, NY\, 13104
END:VEVENT
END:VCALENDAR