BEGIN:VCALENDAR
VERSION:2.0
PRODID:-//Center of Grace - ECPv6.15.20//NONSGML v1.0//EN
CALSCALE:GREGORIAN
METHOD:PUBLISH
X-WR-CALNAME:Center of Grace
X-ORIGINAL-URL:https://centerofgraceny.com
X-WR-CALDESC:Events for Center of Grace
REFRESH-INTERVAL;VALUE=DURATION:PT1H
X-Robots-Tag:noindex
X-PUBLISHED-TTL:PT1H
BEGIN:VTIMEZONE
TZID:America/New_York
BEGIN:DAYLIGHT
TZOFFSETFROM:-0500
TZOFFSETTO:-0400
TZNAME:EDT
DTSTART:20230312T070000
END:DAYLIGHT
BEGIN:STANDARD
TZOFFSETFROM:-0400
TZOFFSETTO:-0500
TZNAME:EST
DTSTART:20231105T060000
END:STANDARD
BEGIN:DAYLIGHT
TZOFFSETFROM:-0500
TZOFFSETTO:-0400
TZNAME:EDT
DTSTART:20240310T070000
END:DAYLIGHT
BEGIN:STANDARD
TZOFFSETFROM:-0400
TZOFFSETTO:-0500
TZNAME:EST
DTSTART:20241103T060000
END:STANDARD
BEGIN:DAYLIGHT
TZOFFSETFROM:-0500
TZOFFSETTO:-0400
TZNAME:EDT
DTSTART:20250309T070000
END:DAYLIGHT
BEGIN:STANDARD
TZOFFSETFROM:-0400
TZOFFSETTO:-0500
TZNAME:EST
DTSTART:20251102T060000
END:STANDARD
BEGIN:DAYLIGHT
TZOFFSETFROM:-0500
TZOFFSETTO:-0400
TZNAME:EDT
DTSTART:20260308T070000
END:DAYLIGHT
BEGIN:STANDARD
TZOFFSETFROM:-0400
TZOFFSETTO:-0500
TZNAME:EST
DTSTART:20261101T060000
END:STANDARD
END:VTIMEZONE
BEGIN:VEVENT
DTSTART;TZID=America/New_York:20250407T173000
DTEND;TZID=America/New_York:20250407T183000
DTSTAMP:20260422T224455
CREATED:20240606T184903Z
LAST-MODIFIED:20240610T155415Z
UID:10000565-1744047000-1744050600@centerofgraceny.com
SUMMARY:Yoga with Chris DeAmicis
DESCRIPTION:2024 June
URL:https://centerofgraceny.com/event/yoga-with-chris-deamicis-3/2025-04-07/
LOCATION:Center of Grace\, 8219 Market Place\, Building #10\, Manlius\, NY\, 13104
CATEGORIES:Yoga
END:VEVENT
BEGIN:VEVENT
DTSTART;TZID=America/New_York:20250331T173000
DTEND;TZID=America/New_York:20250331T183000
DTSTAMP:20260422T224455
CREATED:20240606T184903Z
LAST-MODIFIED:20240610T155415Z
UID:10000564-1743442200-1743445800@centerofgraceny.com
SUMMARY:Yoga with Chris DeAmicis
DESCRIPTION:2024 June
URL:https://centerofgraceny.com/event/yoga-with-chris-deamicis-3/2025-03-31/
LOCATION:Center of Grace\, 8219 Market Place\, Building #10\, Manlius\, NY\, 13104
CATEGORIES:Yoga
END:VEVENT
BEGIN:VEVENT
DTSTART;TZID=America/New_York:20250324T173000
DTEND;TZID=America/New_York:20250324T183000
DTSTAMP:20260422T224455
CREATED:20240606T184903Z
LAST-MODIFIED:20240610T155415Z
UID:10000563-1742837400-1742841000@centerofgraceny.com
SUMMARY:Yoga with Chris DeAmicis
DESCRIPTION:2024 June
URL:https://centerofgraceny.com/event/yoga-with-chris-deamicis-3/2025-03-24/
LOCATION:Center of Grace\, 8219 Market Place\, Building #10\, Manlius\, NY\, 13104
CATEGORIES:Yoga
END:VEVENT
BEGIN:VEVENT
DTSTART;TZID=America/New_York:20250317T173000
DTEND;TZID=America/New_York:20250317T183000
DTSTAMP:20260422T224455
CREATED:20240606T184903Z
LAST-MODIFIED:20240610T155415Z
UID:10000562-1742232600-1742236200@centerofgraceny.com
SUMMARY:Yoga with Chris DeAmicis
DESCRIPTION:2024 June
URL:https://centerofgraceny.com/event/yoga-with-chris-deamicis-3/2025-03-17/
LOCATION:Center of Grace\, 8219 Market Place\, Building #10\, Manlius\, NY\, 13104
CATEGORIES:Yoga
END:VEVENT
BEGIN:VEVENT
DTSTART;TZID=America/New_York:20250310T173000
DTEND;TZID=America/New_York:20250310T183000
DTSTAMP:20260422T224455
CREATED:20240606T184903Z
LAST-MODIFIED:20240610T155415Z
UID:10000561-1741627800-1741631400@centerofgraceny.com
SUMMARY:Yoga with Chris DeAmicis
DESCRIPTION:2024 June
URL:https://centerofgraceny.com/event/yoga-with-chris-deamicis-3/2025-03-10/
LOCATION:Center of Grace\, 8219 Market Place\, Building #10\, Manlius\, NY\, 13104
CATEGORIES:Yoga
END:VEVENT
BEGIN:VEVENT
DTSTART;TZID=America/New_York:20250303T173000
DTEND;TZID=America/New_York:20250303T183000
DTSTAMP:20260422T224455
CREATED:20240606T184903Z
LAST-MODIFIED:20240610T155415Z
UID:10000560-1741023000-1741026600@centerofgraceny.com
SUMMARY:Yoga with Chris DeAmicis
DESCRIPTION:2024 June
URL:https://centerofgraceny.com/event/yoga-with-chris-deamicis-3/2025-03-03/
LOCATION:Center of Grace\, 8219 Market Place\, Building #10\, Manlius\, NY\, 13104
CATEGORIES:Yoga
END:VEVENT
BEGIN:VEVENT
DTSTART;TZID=America/New_York:20250224T173000
DTEND;TZID=America/New_York:20250224T183000
DTSTAMP:20260422T224455
CREATED:20240606T184903Z
LAST-MODIFIED:20240610T155415Z
UID:10000559-1740418200-1740421800@centerofgraceny.com
SUMMARY:Yoga with Chris DeAmicis
DESCRIPTION:2024 June
URL:https://centerofgraceny.com/event/yoga-with-chris-deamicis-3/2025-02-24/
LOCATION:Center of Grace\, 8219 Market Place\, Building #10\, Manlius\, NY\, 13104
CATEGORIES:Yoga
END:VEVENT
BEGIN:VEVENT
DTSTART;TZID=America/New_York:20250217T173000
DTEND;TZID=America/New_York:20250217T183000
DTSTAMP:20260422T224455
CREATED:20240606T184903Z
LAST-MODIFIED:20240610T155415Z
UID:10000558-1739813400-1739817000@centerofgraceny.com
SUMMARY:Yoga with Chris DeAmicis
DESCRIPTION:2024 June
URL:https://centerofgraceny.com/event/yoga-with-chris-deamicis-3/2025-02-17/
LOCATION:Center of Grace\, 8219 Market Place\, Building #10\, Manlius\, NY\, 13104
CATEGORIES:Yoga
END:VEVENT
BEGIN:VEVENT
DTSTART;TZID=America/New_York:20250210T173000
DTEND;TZID=America/New_York:20250210T183000
DTSTAMP:20260422T224455
CREATED:20240606T184903Z
LAST-MODIFIED:20240610T155415Z
UID:10000557-1739208600-1739212200@centerofgraceny.com
SUMMARY:Yoga with Chris DeAmicis
DESCRIPTION:2024 June
URL:https://centerofgraceny.com/event/yoga-with-chris-deamicis-3/2025-02-10/
LOCATION:Center of Grace\, 8219 Market Place\, Building #10\, Manlius\, NY\, 13104
CATEGORIES:Yoga
END:VEVENT
BEGIN:VEVENT
DTSTART;TZID=America/New_York:20250203T173000
DTEND;TZID=America/New_York:20250203T183000
DTSTAMP:20260422T224455
CREATED:20240606T184903Z
LAST-MODIFIED:20240610T155415Z
UID:10000556-1738603800-1738607400@centerofgraceny.com
SUMMARY:Yoga with Chris DeAmicis
DESCRIPTION:2024 June
URL:https://centerofgraceny.com/event/yoga-with-chris-deamicis-3/2025-02-03/
LOCATION:Center of Grace\, 8219 Market Place\, Building #10\, Manlius\, NY\, 13104
CATEGORIES:Yoga
END:VEVENT
BEGIN:VEVENT
DTSTART;TZID=America/New_York:20250127T173000
DTEND;TZID=America/New_York:20250127T183000
DTSTAMP:20260422T224455
CREATED:20240606T184903Z
LAST-MODIFIED:20240610T155415Z
UID:10000555-1737999000-1738002600@centerofgraceny.com
SUMMARY:Yoga with Chris DeAmicis
DESCRIPTION:2024 June
URL:https://centerofgraceny.com/event/yoga-with-chris-deamicis-3/2025-01-27/
LOCATION:Center of Grace\, 8219 Market Place\, Building #10\, Manlius\, NY\, 13104
CATEGORIES:Yoga
END:VEVENT
BEGIN:VEVENT
DTSTART;TZID=America/New_York:20250120T173000
DTEND;TZID=America/New_York:20250120T183000
DTSTAMP:20260422T224456
CREATED:20240606T184903Z
LAST-MODIFIED:20240610T155415Z
UID:10000554-1737394200-1737397800@centerofgraceny.com
SUMMARY:Yoga with Chris DeAmicis
DESCRIPTION:2024 June
URL:https://centerofgraceny.com/event/yoga-with-chris-deamicis-3/2025-01-20/
LOCATION:Center of Grace\, 8219 Market Place\, Building #10\, Manlius\, NY\, 13104
CATEGORIES:Yoga
END:VEVENT
BEGIN:VEVENT
DTSTART;TZID=America/New_York:20250113T173000
DTEND;TZID=America/New_York:20250113T183000
DTSTAMP:20260422T224456
CREATED:20240606T184903Z
LAST-MODIFIED:20240610T155415Z
UID:10000553-1736789400-1736793000@centerofgraceny.com
SUMMARY:Yoga with Chris DeAmicis
DESCRIPTION:2024 June
URL:https://centerofgraceny.com/event/yoga-with-chris-deamicis-3/2025-01-13/
LOCATION:Center of Grace\, 8219 Market Place\, Building #10\, Manlius\, NY\, 13104
CATEGORIES:Yoga
END:VEVENT
BEGIN:VEVENT
DTSTART;TZID=America/New_York:20250106T173000
DTEND;TZID=America/New_York:20250106T183000
DTSTAMP:20260422T224456
CREATED:20240606T184903Z
LAST-MODIFIED:20240610T155415Z
UID:10000552-1736184600-1736188200@centerofgraceny.com
SUMMARY:Yoga with Chris DeAmicis
DESCRIPTION:2024 June
URL:https://centerofgraceny.com/event/yoga-with-chris-deamicis-3/2025-01-06/
LOCATION:Center of Grace\, 8219 Market Place\, Building #10\, Manlius\, NY\, 13104
CATEGORIES:Yoga
END:VEVENT
BEGIN:VEVENT
DTSTART;TZID=America/New_York:20241230T173000
DTEND;TZID=America/New_York:20241230T183000
DTSTAMP:20260422T224456
CREATED:20240606T184903Z
LAST-MODIFIED:20240610T155415Z
UID:10000551-1735579800-1735583400@centerofgraceny.com
SUMMARY:Yoga with Chris DeAmicis
DESCRIPTION:2024 June
URL:https://centerofgraceny.com/event/yoga-with-chris-deamicis-3/2024-12-30/
LOCATION:Center of Grace\, 8219 Market Place\, Building #10\, Manlius\, NY\, 13104
CATEGORIES:Yoga
END:VEVENT
BEGIN:VEVENT
DTSTART;TZID=America/New_York:20241223T173000
DTEND;TZID=America/New_York:20241223T183000
DTSTAMP:20260422T224456
CREATED:20240606T184903Z
LAST-MODIFIED:20240610T155415Z
UID:10000550-1734975000-1734978600@centerofgraceny.com
SUMMARY:Yoga with Chris DeAmicis
DESCRIPTION:2024 June
URL:https://centerofgraceny.com/event/yoga-with-chris-deamicis-3/2024-12-23/
LOCATION:Center of Grace\, 8219 Market Place\, Building #10\, Manlius\, NY\, 13104
CATEGORIES:Yoga
END:VEVENT
BEGIN:VEVENT
DTSTART;TZID=America/New_York:20241216T173000
DTEND;TZID=America/New_York:20241216T183000
DTSTAMP:20260422T224456
CREATED:20240606T184903Z
LAST-MODIFIED:20240610T155415Z
UID:10000549-1734370200-1734373800@centerofgraceny.com
SUMMARY:Yoga with Chris DeAmicis
DESCRIPTION:2024 June
URL:https://centerofgraceny.com/event/yoga-with-chris-deamicis-3/2024-12-16/
LOCATION:Center of Grace\, 8219 Market Place\, Building #10\, Manlius\, NY\, 13104
CATEGORIES:Yoga
END:VEVENT
BEGIN:VEVENT
DTSTART;TZID=America/New_York:20241209T173000
DTEND;TZID=America/New_York:20241209T183000
DTSTAMP:20260422T224456
CREATED:20240606T184903Z
LAST-MODIFIED:20240610T155415Z
UID:10000548-1733765400-1733769000@centerofgraceny.com
SUMMARY:Yoga with Chris DeAmicis
DESCRIPTION:2024 June
URL:https://centerofgraceny.com/event/yoga-with-chris-deamicis-3/2024-12-09/
LOCATION:Center of Grace\, 8219 Market Place\, Building #10\, Manlius\, NY\, 13104
CATEGORIES:Yoga
END:VEVENT
BEGIN:VEVENT
DTSTART;TZID=America/New_York:20241202T173000
DTEND;TZID=America/New_York:20241202T183000
DTSTAMP:20260422T224456
CREATED:20240606T184903Z
LAST-MODIFIED:20240610T155415Z
UID:10000547-1733160600-1733164200@centerofgraceny.com
SUMMARY:Yoga with Chris DeAmicis
DESCRIPTION:2024 June
URL:https://centerofgraceny.com/event/yoga-with-chris-deamicis-3/2024-12-02/
LOCATION:Center of Grace\, 8219 Market Place\, Building #10\, Manlius\, NY\, 13104
CATEGORIES:Yoga
END:VEVENT
BEGIN:VEVENT
DTSTART;TZID=America/New_York:20241125T173000
DTEND;TZID=America/New_York:20241125T183000
DTSTAMP:20260422T224456
CREATED:20240606T184903Z
LAST-MODIFIED:20240610T155415Z
UID:10000546-1732555800-1732559400@centerofgraceny.com
SUMMARY:Yoga with Chris DeAmicis
DESCRIPTION:2024 June
URL:https://centerofgraceny.com/event/yoga-with-chris-deamicis-3/2024-11-25/
LOCATION:Center of Grace\, 8219 Market Place\, Building #10\, Manlius\, NY\, 13104
CATEGORIES:Yoga
END:VEVENT
BEGIN:VEVENT
DTSTART;TZID=America/New_York:20241118T173000
DTEND;TZID=America/New_York:20241118T183000
DTSTAMP:20260422T224456
CREATED:20240606T184903Z
LAST-MODIFIED:20240610T155415Z
UID:10000545-1731951000-1731954600@centerofgraceny.com
SUMMARY:Yoga with Chris DeAmicis
DESCRIPTION:2024 June
URL:https://centerofgraceny.com/event/yoga-with-chris-deamicis-3/2024-11-18/
LOCATION:Center of Grace\, 8219 Market Place\, Building #10\, Manlius\, NY\, 13104
CATEGORIES:Yoga
END:VEVENT
BEGIN:VEVENT
DTSTART;TZID=America/New_York:20241111T173000
DTEND;TZID=America/New_York:20241111T183000
DTSTAMP:20260422T224456
CREATED:20240606T184903Z
LAST-MODIFIED:20240610T155415Z
UID:10000544-1731346200-1731349800@centerofgraceny.com
SUMMARY:Yoga with Chris DeAmicis
DESCRIPTION:2024 June
URL:https://centerofgraceny.com/event/yoga-with-chris-deamicis-3/2024-11-11/
LOCATION:Center of Grace\, 8219 Market Place\, Building #10\, Manlius\, NY\, 13104
CATEGORIES:Yoga
END:VEVENT
BEGIN:VEVENT
DTSTART;TZID=America/New_York:20241104T173000
DTEND;TZID=America/New_York:20241104T183000
DTSTAMP:20260422T224456
CREATED:20240606T184903Z
LAST-MODIFIED:20240610T155415Z
UID:10000543-1730741400-1730745000@centerofgraceny.com
SUMMARY:Yoga with Chris DeAmicis
DESCRIPTION:2024 June
URL:https://centerofgraceny.com/event/yoga-with-chris-deamicis-3/2024-11-04/
LOCATION:Center of Grace\, 8219 Market Place\, Building #10\, Manlius\, NY\, 13104
CATEGORIES:Yoga
END:VEVENT
BEGIN:VEVENT
DTSTART;TZID=America/New_York:20241028T173000
DTEND;TZID=America/New_York:20241028T183000
DTSTAMP:20260422T224456
CREATED:20240606T184903Z
LAST-MODIFIED:20240610T155415Z
UID:10000542-1730136600-1730140200@centerofgraceny.com
SUMMARY:Yoga with Chris DeAmicis
DESCRIPTION:2024 June
URL:https://centerofgraceny.com/event/yoga-with-chris-deamicis-3/2024-10-28/
LOCATION:Center of Grace\, 8219 Market Place\, Building #10\, Manlius\, NY\, 13104
CATEGORIES:Yoga
END:VEVENT
BEGIN:VEVENT
DTSTART;TZID=America/New_York:20241021T173000
DTEND;TZID=America/New_York:20241021T183000
DTSTAMP:20260422T224456
CREATED:20240606T184903Z
LAST-MODIFIED:20240610T155415Z
UID:10000541-1729531800-1729535400@centerofgraceny.com
SUMMARY:Yoga with Chris DeAmicis
DESCRIPTION:2024 June
URL:https://centerofgraceny.com/event/yoga-with-chris-deamicis-3/2024-10-21/
LOCATION:Center of Grace\, 8219 Market Place\, Building #10\, Manlius\, NY\, 13104
CATEGORIES:Yoga
END:VEVENT
BEGIN:VEVENT
DTSTART;TZID=America/New_York:20241014T173000
DTEND;TZID=America/New_York:20241014T183000
DTSTAMP:20260422T224456
CREATED:20240606T184903Z
LAST-MODIFIED:20240610T155415Z
UID:10000540-1728927000-1728930600@centerofgraceny.com
SUMMARY:Yoga with Chris DeAmicis
DESCRIPTION:2024 June
URL:https://centerofgraceny.com/event/yoga-with-chris-deamicis-3/2024-10-14/
LOCATION:Center of Grace\, 8219 Market Place\, Building #10\, Manlius\, NY\, 13104
CATEGORIES:Yoga
END:VEVENT
BEGIN:VEVENT
DTSTART;TZID=America/New_York:20241007T173000
DTEND;TZID=America/New_York:20241007T183000
DTSTAMP:20260422T224456
CREATED:20240606T184903Z
LAST-MODIFIED:20240610T155415Z
UID:10000539-1728322200-1728325800@centerofgraceny.com
SUMMARY:Yoga with Chris DeAmicis
DESCRIPTION:2024 June
URL:https://centerofgraceny.com/event/yoga-with-chris-deamicis-3/2024-10-07/
LOCATION:Center of Grace\, 8219 Market Place\, Building #10\, Manlius\, NY\, 13104
CATEGORIES:Yoga
END:VEVENT
BEGIN:VEVENT
DTSTART;TZID=America/New_York:20240930T173000
DTEND;TZID=America/New_York:20240930T183000
DTSTAMP:20260422T224456
CREATED:20240606T184903Z
LAST-MODIFIED:20240610T155415Z
UID:10000538-1727717400-1727721000@centerofgraceny.com
SUMMARY:Yoga with Chris DeAmicis
DESCRIPTION:2024 June
URL:https://centerofgraceny.com/event/yoga-with-chris-deamicis-3/2024-09-30/
LOCATION:Center of Grace\, 8219 Market Place\, Building #10\, Manlius\, NY\, 13104
CATEGORIES:Yoga
END:VEVENT
BEGIN:VEVENT
DTSTART;TZID=America/New_York:20240923T173000
DTEND;TZID=America/New_York:20240923T183000
DTSTAMP:20260422T224456
CREATED:20240606T184903Z
LAST-MODIFIED:20240610T155415Z
UID:10000537-1727112600-1727116200@centerofgraceny.com
SUMMARY:Yoga with Chris DeAmicis
DESCRIPTION:2024 June
URL:https://centerofgraceny.com/event/yoga-with-chris-deamicis-3/2024-09-23/
LOCATION:Center of Grace\, 8219 Market Place\, Building #10\, Manlius\, NY\, 13104
CATEGORIES:Yoga
END:VEVENT
BEGIN:VEVENT
DTSTART;TZID=America/New_York:20240916T173000
DTEND;TZID=America/New_York:20240916T183000
DTSTAMP:20260422T224456
CREATED:20240606T184903Z
LAST-MODIFIED:20240610T155415Z
UID:10000536-1726507800-1726511400@centerofgraceny.com
SUMMARY:Yoga with Chris DeAmicis
DESCRIPTION:2024 June
URL:https://centerofgraceny.com/event/yoga-with-chris-deamicis-3/2024-09-16/
LOCATION:Center of Grace\, 8219 Market Place\, Building #10\, Manlius\, NY\, 13104
CATEGORIES:Yoga
END:VEVENT
END:VCALENDAR