BEGIN:VCALENDAR
VERSION:2.0
PRODID:-//Center of Grace - ECPv6.15.20//NONSGML v1.0//EN
CALSCALE:GREGORIAN
METHOD:PUBLISH
X-ORIGINAL-URL:https://centerofgraceny.com
X-WR-CALDESC:Events for Center of Grace
REFRESH-INTERVAL;VALUE=DURATION:PT1H
X-Robots-Tag:noindex
X-PUBLISHED-TTL:PT1H
BEGIN:VTIMEZONE
TZID:America/New_York
BEGIN:DAYLIGHT
TZOFFSETFROM:-0500
TZOFFSETTO:-0400
TZNAME:EDT
DTSTART:20260308T070000
END:DAYLIGHT
BEGIN:STANDARD
TZOFFSETFROM:-0400
TZOFFSETTO:-0500
TZNAME:EST
DTSTART:20261101T060000
END:STANDARD
BEGIN:DAYLIGHT
TZOFFSETFROM:-0500
TZOFFSETTO:-0400
TZNAME:EDT
DTSTART:20270314T070000
END:DAYLIGHT
BEGIN:STANDARD
TZOFFSETFROM:-0400
TZOFFSETTO:-0500
TZNAME:EST
DTSTART:20271107T060000
END:STANDARD
BEGIN:DAYLIGHT
TZOFFSETFROM:-0500
TZOFFSETTO:-0400
TZNAME:EDT
DTSTART:20280312T070000
END:DAYLIGHT
BEGIN:STANDARD
TZOFFSETFROM:-0400
TZOFFSETTO:-0500
TZNAME:EST
DTSTART:20281105T060000
END:STANDARD
BEGIN:DAYLIGHT
TZOFFSETFROM:-0500
TZOFFSETTO:-0400
TZNAME:EDT
DTSTART:20290311T070000
END:DAYLIGHT
BEGIN:STANDARD
TZOFFSETFROM:-0400
TZOFFSETTO:-0500
TZNAME:EST
DTSTART:20291104T060000
END:STANDARD
END:VTIMEZONE
BEGIN:VEVENT
DTSTART;TZID=America/New_York:20270913T173000
DTEND;TZID=America/New_York:20270913T183000
DTSTAMP:20260423T013200
CREATED:20251021T175919Z
LAST-MODIFIED:20251021T180052Z
UID:10002344-1820856600-1820860200@centerofgraceny.com
SUMMARY:Yoga with Chris DeAmicis
DESCRIPTION:
URL:https://centerofgraceny.com/event/yoga-with-chris-deamicis-3-2/2027-09-13/
LOCATION:Center of Grace\, 8219 Market Place\, Building #10\, Manlius\, NY\, 13104
CATEGORIES:Yoga
END:VEVENT
BEGIN:VEVENT
DTSTART;TZID=America/New_York:20270920T173000
DTEND;TZID=America/New_York:20270920T183000
DTSTAMP:20260423T013200
CREATED:20251021T175919Z
LAST-MODIFIED:20251021T180052Z
UID:10002345-1821461400-1821465000@centerofgraceny.com
SUMMARY:Yoga with Chris DeAmicis
DESCRIPTION:
URL:https://centerofgraceny.com/event/yoga-with-chris-deamicis-3-2/2027-09-20/
LOCATION:Center of Grace\, 8219 Market Place\, Building #10\, Manlius\, NY\, 13104
CATEGORIES:Yoga
END:VEVENT
BEGIN:VEVENT
DTSTART;TZID=America/New_York:20270927T173000
DTEND;TZID=America/New_York:20270927T183000
DTSTAMP:20260423T013200
CREATED:20251021T175919Z
LAST-MODIFIED:20251021T180052Z
UID:10002346-1822066200-1822069800@centerofgraceny.com
SUMMARY:Yoga with Chris DeAmicis
DESCRIPTION:
URL:https://centerofgraceny.com/event/yoga-with-chris-deamicis-3-2/2027-09-27/
LOCATION:Center of Grace\, 8219 Market Place\, Building #10\, Manlius\, NY\, 13104
CATEGORIES:Yoga
END:VEVENT
BEGIN:VEVENT
DTSTART;TZID=America/New_York:20271004T173000
DTEND;TZID=America/New_York:20271004T183000
DTSTAMP:20260423T013200
CREATED:20251021T175919Z
LAST-MODIFIED:20251021T180052Z
UID:10002347-1822671000-1822674600@centerofgraceny.com
SUMMARY:Yoga with Chris DeAmicis
DESCRIPTION:
URL:https://centerofgraceny.com/event/yoga-with-chris-deamicis-3-2/2027-10-04/
LOCATION:Center of Grace\, 8219 Market Place\, Building #10\, Manlius\, NY\, 13104
CATEGORIES:Yoga
END:VEVENT
BEGIN:VEVENT
DTSTART;TZID=America/New_York:20271011T173000
DTEND;TZID=America/New_York:20271011T183000
DTSTAMP:20260423T013200
CREATED:20251021T175919Z
LAST-MODIFIED:20251021T180052Z
UID:10002348-1823275800-1823279400@centerofgraceny.com
SUMMARY:Yoga with Chris DeAmicis
DESCRIPTION:
URL:https://centerofgraceny.com/event/yoga-with-chris-deamicis-3-2/2027-10-11/
LOCATION:Center of Grace\, 8219 Market Place\, Building #10\, Manlius\, NY\, 13104
CATEGORIES:Yoga
END:VEVENT
BEGIN:VEVENT
DTSTART;TZID=America/New_York:20271018T173000
DTEND;TZID=America/New_York:20271018T183000
DTSTAMP:20260423T013200
CREATED:20251021T175919Z
LAST-MODIFIED:20251021T180052Z
UID:10002349-1823880600-1823884200@centerofgraceny.com
SUMMARY:Yoga with Chris DeAmicis
DESCRIPTION:
URL:https://centerofgraceny.com/event/yoga-with-chris-deamicis-3-2/2027-10-18/
LOCATION:Center of Grace\, 8219 Market Place\, Building #10\, Manlius\, NY\, 13104
CATEGORIES:Yoga
END:VEVENT
BEGIN:VEVENT
DTSTART;TZID=America/New_York:20271025T173000
DTEND;TZID=America/New_York:20271025T183000
DTSTAMP:20260423T013200
CREATED:20251021T175919Z
LAST-MODIFIED:20251021T180052Z
UID:10002350-1824485400-1824489000@centerofgraceny.com
SUMMARY:Yoga with Chris DeAmicis
DESCRIPTION:
URL:https://centerofgraceny.com/event/yoga-with-chris-deamicis-3-2/2027-10-25/
LOCATION:Center of Grace\, 8219 Market Place\, Building #10\, Manlius\, NY\, 13104
CATEGORIES:Yoga
END:VEVENT
BEGIN:VEVENT
DTSTART;TZID=America/New_York:20271101T173000
DTEND;TZID=America/New_York:20271101T183000
DTSTAMP:20260423T013200
CREATED:20251021T175919Z
LAST-MODIFIED:20251021T180052Z
UID:10002351-1825090200-1825093800@centerofgraceny.com
SUMMARY:Yoga with Chris DeAmicis
DESCRIPTION:
URL:https://centerofgraceny.com/event/yoga-with-chris-deamicis-3-2/2027-11-01/
LOCATION:Center of Grace\, 8219 Market Place\, Building #10\, Manlius\, NY\, 13104
CATEGORIES:Yoga
END:VEVENT
BEGIN:VEVENT
DTSTART;TZID=America/New_York:20271108T173000
DTEND;TZID=America/New_York:20271108T183000
DTSTAMP:20260423T013200
CREATED:20251021T175919Z
LAST-MODIFIED:20251021T180052Z
UID:10002352-1825695000-1825698600@centerofgraceny.com
SUMMARY:Yoga with Chris DeAmicis
DESCRIPTION:
URL:https://centerofgraceny.com/event/yoga-with-chris-deamicis-3-2/2027-11-08/
LOCATION:Center of Grace\, 8219 Market Place\, Building #10\, Manlius\, NY\, 13104
CATEGORIES:Yoga
END:VEVENT
BEGIN:VEVENT
DTSTART;TZID=America/New_York:20271115T173000
DTEND;TZID=America/New_York:20271115T183000
DTSTAMP:20260423T013200
CREATED:20251021T175919Z
LAST-MODIFIED:20251021T180052Z
UID:10002353-1826299800-1826303400@centerofgraceny.com
SUMMARY:Yoga with Chris DeAmicis
DESCRIPTION:
URL:https://centerofgraceny.com/event/yoga-with-chris-deamicis-3-2/2027-11-15/
LOCATION:Center of Grace\, 8219 Market Place\, Building #10\, Manlius\, NY\, 13104
CATEGORIES:Yoga
END:VEVENT
BEGIN:VEVENT
DTSTART;TZID=America/New_York:20271122T173000
DTEND;TZID=America/New_York:20271122T183000
DTSTAMP:20260423T013200
CREATED:20251021T175919Z
LAST-MODIFIED:20251021T180052Z
UID:10002354-1826904600-1826908200@centerofgraceny.com
SUMMARY:Yoga with Chris DeAmicis
DESCRIPTION:
URL:https://centerofgraceny.com/event/yoga-with-chris-deamicis-3-2/2027-11-22/
LOCATION:Center of Grace\, 8219 Market Place\, Building #10\, Manlius\, NY\, 13104
CATEGORIES:Yoga
END:VEVENT
BEGIN:VEVENT
DTSTART;TZID=America/New_York:20271129T173000
DTEND;TZID=America/New_York:20271129T183000
DTSTAMP:20260423T013200
CREATED:20251021T175919Z
LAST-MODIFIED:20251021T180052Z
UID:10002355-1827509400-1827513000@centerofgraceny.com
SUMMARY:Yoga with Chris DeAmicis
DESCRIPTION:
URL:https://centerofgraceny.com/event/yoga-with-chris-deamicis-3-2/2027-11-29/
LOCATION:Center of Grace\, 8219 Market Place\, Building #10\, Manlius\, NY\, 13104
CATEGORIES:Yoga
END:VEVENT
BEGIN:VEVENT
DTSTART;TZID=America/New_York:20271206T173000
DTEND;TZID=America/New_York:20271206T183000
DTSTAMP:20260423T013200
CREATED:20251021T175919Z
LAST-MODIFIED:20251021T180052Z
UID:10002356-1828114200-1828117800@centerofgraceny.com
SUMMARY:Yoga with Chris DeAmicis
DESCRIPTION:
URL:https://centerofgraceny.com/event/yoga-with-chris-deamicis-3-2/2027-12-06/
LOCATION:Center of Grace\, 8219 Market Place\, Building #10\, Manlius\, NY\, 13104
CATEGORIES:Yoga
END:VEVENT
BEGIN:VEVENT
DTSTART;TZID=America/New_York:20271213T173000
DTEND;TZID=America/New_York:20271213T183000
DTSTAMP:20260423T013200
CREATED:20251021T175919Z
LAST-MODIFIED:20251021T180052Z
UID:10002357-1828719000-1828722600@centerofgraceny.com
SUMMARY:Yoga with Chris DeAmicis
DESCRIPTION:
URL:https://centerofgraceny.com/event/yoga-with-chris-deamicis-3-2/2027-12-13/
LOCATION:Center of Grace\, 8219 Market Place\, Building #10\, Manlius\, NY\, 13104
CATEGORIES:Yoga
END:VEVENT
BEGIN:VEVENT
DTSTART;TZID=America/New_York:20271220T173000
DTEND;TZID=America/New_York:20271220T183000
DTSTAMP:20260423T013200
CREATED:20251021T175919Z
LAST-MODIFIED:20251021T180052Z
UID:10002358-1829323800-1829327400@centerofgraceny.com
SUMMARY:Yoga with Chris DeAmicis
DESCRIPTION:
URL:https://centerofgraceny.com/event/yoga-with-chris-deamicis-3-2/2027-12-20/
LOCATION:Center of Grace\, 8219 Market Place\, Building #10\, Manlius\, NY\, 13104
CATEGORIES:Yoga
END:VEVENT
BEGIN:VEVENT
DTSTART;TZID=America/New_York:20271227T173000
DTEND;TZID=America/New_York:20271227T183000
DTSTAMP:20260423T013200
CREATED:20251021T175919Z
LAST-MODIFIED:20251021T180052Z
UID:10002359-1829928600-1829932200@centerofgraceny.com
SUMMARY:Yoga with Chris DeAmicis
DESCRIPTION:
URL:https://centerofgraceny.com/event/yoga-with-chris-deamicis-3-2/2027-12-27/
LOCATION:Center of Grace\, 8219 Market Place\, Building #10\, Manlius\, NY\, 13104
CATEGORIES:Yoga
END:VEVENT
BEGIN:VEVENT
DTSTART;TZID=America/New_York:20280103T173000
DTEND;TZID=America/New_York:20280103T183000
DTSTAMP:20260423T013200
CREATED:20251021T175919Z
LAST-MODIFIED:20251021T180052Z
UID:10002360-1830533400-1830537000@centerofgraceny.com
SUMMARY:Yoga with Chris DeAmicis
DESCRIPTION:
URL:https://centerofgraceny.com/event/yoga-with-chris-deamicis-3-2/2028-01-03/
LOCATION:Center of Grace\, 8219 Market Place\, Building #10\, Manlius\, NY\, 13104
CATEGORIES:Yoga
END:VEVENT
BEGIN:VEVENT
DTSTART;TZID=America/New_York:20280110T173000
DTEND;TZID=America/New_York:20280110T183000
DTSTAMP:20260423T013200
CREATED:20251021T175919Z
LAST-MODIFIED:20251021T180052Z
UID:10002361-1831138200-1831141800@centerofgraceny.com
SUMMARY:Yoga with Chris DeAmicis
DESCRIPTION:
URL:https://centerofgraceny.com/event/yoga-with-chris-deamicis-3-2/2028-01-10/
LOCATION:Center of Grace\, 8219 Market Place\, Building #10\, Manlius\, NY\, 13104
CATEGORIES:Yoga
END:VEVENT
BEGIN:VEVENT
DTSTART;TZID=America/New_York:20280117T173000
DTEND;TZID=America/New_York:20280117T183000
DTSTAMP:20260423T013200
CREATED:20251021T175919Z
LAST-MODIFIED:20251021T180052Z
UID:10002362-1831743000-1831746600@centerofgraceny.com
SUMMARY:Yoga with Chris DeAmicis
DESCRIPTION:
URL:https://centerofgraceny.com/event/yoga-with-chris-deamicis-3-2/2028-01-17/
LOCATION:Center of Grace\, 8219 Market Place\, Building #10\, Manlius\, NY\, 13104
CATEGORIES:Yoga
END:VEVENT
BEGIN:VEVENT
DTSTART;TZID=America/New_York:20280124T173000
DTEND;TZID=America/New_York:20280124T183000
DTSTAMP:20260423T013200
CREATED:20251021T175919Z
LAST-MODIFIED:20251021T180052Z
UID:10002363-1832347800-1832351400@centerofgraceny.com
SUMMARY:Yoga with Chris DeAmicis
DESCRIPTION:
URL:https://centerofgraceny.com/event/yoga-with-chris-deamicis-3-2/2028-01-24/
LOCATION:Center of Grace\, 8219 Market Place\, Building #10\, Manlius\, NY\, 13104
CATEGORIES:Yoga
END:VEVENT
BEGIN:VEVENT
DTSTART;TZID=America/New_York:20280131T173000
DTEND;TZID=America/New_York:20280131T183000
DTSTAMP:20260423T013200
CREATED:20251021T175919Z
LAST-MODIFIED:20251021T180052Z
UID:10002364-1832952600-1832956200@centerofgraceny.com
SUMMARY:Yoga with Chris DeAmicis
DESCRIPTION:
URL:https://centerofgraceny.com/event/yoga-with-chris-deamicis-3-2/2028-01-31/
LOCATION:Center of Grace\, 8219 Market Place\, Building #10\, Manlius\, NY\, 13104
CATEGORIES:Yoga
END:VEVENT
BEGIN:VEVENT
DTSTART;TZID=America/New_York:20280207T173000
DTEND;TZID=America/New_York:20280207T183000
DTSTAMP:20260423T013200
CREATED:20251021T175919Z
LAST-MODIFIED:20251021T180052Z
UID:10002365-1833557400-1833561000@centerofgraceny.com
SUMMARY:Yoga with Chris DeAmicis
DESCRIPTION:
URL:https://centerofgraceny.com/event/yoga-with-chris-deamicis-3-2/2028-02-07/
LOCATION:Center of Grace\, 8219 Market Place\, Building #10\, Manlius\, NY\, 13104
CATEGORIES:Yoga
END:VEVENT
BEGIN:VEVENT
DTSTART;TZID=America/New_York:20280214T173000
DTEND;TZID=America/New_York:20280214T183000
DTSTAMP:20260423T013200
CREATED:20251021T175919Z
LAST-MODIFIED:20251021T180052Z
UID:10002366-1834162200-1834165800@centerofgraceny.com
SUMMARY:Yoga with Chris DeAmicis
DESCRIPTION:
URL:https://centerofgraceny.com/event/yoga-with-chris-deamicis-3-2/2028-02-14/
LOCATION:Center of Grace\, 8219 Market Place\, Building #10\, Manlius\, NY\, 13104
CATEGORIES:Yoga
END:VEVENT
BEGIN:VEVENT
DTSTART;TZID=America/New_York:20280221T173000
DTEND;TZID=America/New_York:20280221T183000
DTSTAMP:20260423T013200
CREATED:20251021T175919Z
LAST-MODIFIED:20251021T180052Z
UID:10002367-1834767000-1834770600@centerofgraceny.com
SUMMARY:Yoga with Chris DeAmicis
DESCRIPTION:
URL:https://centerofgraceny.com/event/yoga-with-chris-deamicis-3-2/2028-02-21/
LOCATION:Center of Grace\, 8219 Market Place\, Building #10\, Manlius\, NY\, 13104
CATEGORIES:Yoga
END:VEVENT
BEGIN:VEVENT
DTSTART;TZID=America/New_York:20280228T173000
DTEND;TZID=America/New_York:20280228T183000
DTSTAMP:20260423T013200
CREATED:20251021T175919Z
LAST-MODIFIED:20251021T180052Z
UID:10002368-1835371800-1835375400@centerofgraceny.com
SUMMARY:Yoga with Chris DeAmicis
DESCRIPTION:
URL:https://centerofgraceny.com/event/yoga-with-chris-deamicis-3-2/2028-02-28/
LOCATION:Center of Grace\, 8219 Market Place\, Building #10\, Manlius\, NY\, 13104
CATEGORIES:Yoga
END:VEVENT
BEGIN:VEVENT
DTSTART;TZID=America/New_York:20280306T173000
DTEND;TZID=America/New_York:20280306T183000
DTSTAMP:20260423T013200
CREATED:20251021T175919Z
LAST-MODIFIED:20251021T180052Z
UID:10002369-1835976600-1835980200@centerofgraceny.com
SUMMARY:Yoga with Chris DeAmicis
DESCRIPTION:
URL:https://centerofgraceny.com/event/yoga-with-chris-deamicis-3-2/2028-03-06/
LOCATION:Center of Grace\, 8219 Market Place\, Building #10\, Manlius\, NY\, 13104
CATEGORIES:Yoga
END:VEVENT
BEGIN:VEVENT
DTSTART;TZID=America/New_York:20280313T173000
DTEND;TZID=America/New_York:20280313T183000
DTSTAMP:20260423T013200
CREATED:20251021T175919Z
LAST-MODIFIED:20251021T180052Z
UID:10002370-1836581400-1836585000@centerofgraceny.com
SUMMARY:Yoga with Chris DeAmicis
DESCRIPTION:
URL:https://centerofgraceny.com/event/yoga-with-chris-deamicis-3-2/2028-03-13/
LOCATION:Center of Grace\, 8219 Market Place\, Building #10\, Manlius\, NY\, 13104
CATEGORIES:Yoga
END:VEVENT
BEGIN:VEVENT
DTSTART;TZID=America/New_York:20280320T173000
DTEND;TZID=America/New_York:20280320T183000
DTSTAMP:20260423T013200
CREATED:20251021T175919Z
LAST-MODIFIED:20251021T180052Z
UID:10002371-1837186200-1837189800@centerofgraceny.com
SUMMARY:Yoga with Chris DeAmicis
DESCRIPTION:
URL:https://centerofgraceny.com/event/yoga-with-chris-deamicis-3-2/2028-03-20/
LOCATION:Center of Grace\, 8219 Market Place\, Building #10\, Manlius\, NY\, 13104
CATEGORIES:Yoga
END:VEVENT
BEGIN:VEVENT
DTSTART;TZID=America/New_York:20280327T173000
DTEND;TZID=America/New_York:20280327T183000
DTSTAMP:20260423T013200
CREATED:20251021T175919Z
LAST-MODIFIED:20251021T180052Z
UID:10002372-1837791000-1837794600@centerofgraceny.com
SUMMARY:Yoga with Chris DeAmicis
DESCRIPTION:
URL:https://centerofgraceny.com/event/yoga-with-chris-deamicis-3-2/2028-03-27/
LOCATION:Center of Grace\, 8219 Market Place\, Building #10\, Manlius\, NY\, 13104
CATEGORIES:Yoga
END:VEVENT
BEGIN:VEVENT
DTSTART;TZID=America/New_York:20280403T173000
DTEND;TZID=America/New_York:20280403T183000
DTSTAMP:20260423T013200
CREATED:20251021T175919Z
LAST-MODIFIED:20251021T180052Z
UID:10002373-1838395800-1838399400@centerofgraceny.com
SUMMARY:Yoga with Chris DeAmicis
DESCRIPTION:
URL:https://centerofgraceny.com/event/yoga-with-chris-deamicis-3-2/2028-04-03/
LOCATION:Center of Grace\, 8219 Market Place\, Building #10\, Manlius\, NY\, 13104
CATEGORIES:Yoga
END:VEVENT
END:VCALENDAR